Workbook

Sheet Sheet1
A5: ΠΕΡΙΦΕΡΕΙΑ | B5: ΣΥΝΟΛΙΚΟΣ ΑΡΙΘΜΟΣ ΕΛΕΧΘΕΝΤΩΝ ΟΧΗΜΑΤΩΝ | C5: Παραβάσεις Μέθης | D5: Άνδρες | E5: Γυναίκες | F5: <20 ετών | G5: 20-30 ετών | H5: 30-40 ετών | I5: 40-50 ετών | J5: 50-60 ετών | K5: 60-70 ετών | L5: >70 ετών
A6: ΑΤΤΙΚΗ | B6: =SUM([1]Γ.Α.Δ.Α.!B30) -> 1442 | C6: =SUM([1]ΣΥΝΟΛΟ!L15) -> 69 | D6: =SUM([1]ΣΥΝΟΛΟ!B15,[1]ΣΥΝΟΛΟ!C15,[1]ΣΥΝΟΛΟ!D15,[1]ΣΥΝΟΛΟ!E15,[1]ΣΥΝΟΛΟ!F15) -> 61 | E6: =SUM([1]ΣΥΝΟΛΟ!G15,[1]ΣΥΝΟΛΟ!H15,[1]ΣΥΝΟΛΟ!I15,[1]ΣΥΝΟΛΟ!J15,[1]ΣΥΝΟΛΟ!K15,) -> 8 | F6: =SUM([1]ΣΥΝΟΛΟ!L8) -> 0 | G6: =SUM([1]ΣΥΝΟΛΟ!L9) -> 17 | H6: =SUM([1]ΣΥΝΟΛΟ!L10) -> 16 | I6: =SUM([1]ΣΥΝΟΛΟ!L11) -> 12 | J6: =SUM([1]ΣΥΝΟΛΟ!L12) -> 21 | K6: =SUM([1]ΣΥΝΟΛΟ!L13) -> 2 | L6: =SUM([1]ΣΥΝΟΛΟ!L14) -> 1
A7: ΘΕΣΣΑΛΟΝΙΚΗ | B7: =SUM([1]Γ.Α.Δ.Θ.!B20) -> 1088 | C7: =SUM([1]ΣΥΝΟΛΟ!L24) -> 44 | D7: =SUM([1]ΣΥΝΟΛΟ!B24,[1]ΣΥΝΟΛΟ!C24,[1]ΣΥΝΟΛΟ!D24,[1]ΣΥΝΟΛΟ!E24,[1]ΣΥΝΟΛΟ!F24,) -> 44 | E7: =SUM([1]ΣΥΝΟΛΟ!G24,[1]ΣΥΝΟΛΟ!H24,[1]ΣΥΝΟΛΟ!I24,[1]ΣΥΝΟΛΟ!J24,[1]ΣΥΝΟΛΟ!K24,) -> 0 | F7: =SUM([1]ΣΥΝΟΛΟ!L17) -> 1 | G7: =SUM([1]ΣΥΝΟΛΟ!L18) -> 7 | H7: =SUM([1]ΣΥΝΟΛΟ!L19) -> 18 | I7: =SUM([1]ΣΥΝΟΛΟ!L20) -> 11 | J7: =SUM([1]ΣΥΝΟΛΟ!L21) -> 5 | K7: =SUM([1]ΣΥΝΟΛΟ!L22) -> 2 | L7: =SUM([1]ΣΥΝΟΛΟ!L23) -> 0
A8: ΑΝΑΤΟΛΙΚΗ ΜΑΚΕΔΟΝΙΑ-ΘΡΑΚΗ | B8: =SUM('[1]Ανατ Μακ'!B68) -> 769 | C8: =SUM([1]ΣΥΝΟΛΟ!L33) -> 22 | D8: =SUM([1]ΣΥΝΟΛΟ!B33,[1]ΣΥΝΟΛΟ!C33,[1]ΣΥΝΟΛΟ!D33,[1]ΣΥΝΟΛΟ!E33,[1]ΣΥΝΟΛΟ!F33,) -> 17 | E8: =SUM([1]ΣΥΝΟΛΟ!G33,[1]ΣΥΝΟΛΟ!H33,[1]ΣΥΝΟΛΟ!I33,[1]ΣΥΝΟΛΟ!J33,[1]ΣΥΝΟΛΟ!K33,) -> 5 | F8: =SUM([1]ΣΥΝΟΛΟ!L26) -> 1 | G8: =SUM([1]ΣΥΝΟΛΟ!L27) -> 6 | H8: =SUM([1]ΣΥΝΟΛΟ!L28) -> 9 | I8: =SUM([1]ΣΥΝΟΛΟ!L29) -> 4 | J8: =SUM([1]ΣΥΝΟΛΟ!L30) -> 2 | K8: =SUM([1]ΣΥΝΟΛΟ!L31) -> 0 | L8: =SUM([1]ΣΥΝΟΛΟ!L32) -> 0
A9: ΙΟΝΙΑ ΝΗΣΙΑ | B9: =SUM([1]Ιόνιο!B50) -> 721 | C9: =SUM([1]ΣΥΝΟΛΟ!L50) -> 28 | D9: =SUM([1]ΣΥΝΟΛΟ!B50,[1]ΣΥΝΟΛΟ!C50,[1]ΣΥΝΟΛΟ!D50,[1]ΣΥΝΟΛΟ!E50,[1]ΣΥΝΟΛΟ!F50,) -> 23 | E9: =SUM([1]ΣΥΝΟΛΟ!G50,[1]ΣΥΝΟΛΟ!H50,[1]ΣΥΝΟΛΟ!I50,[1]ΣΥΝΟΛΟ!J50,[1]ΣΥΝΟΛΟ!K50,) -> 5 | F9: =SUM([1]ΣΥΝΟΛΟ!L43) -> 3 | G9: =SUM([1]ΣΥΝΟΛΟ!L44) -> 10 | H9: =SUM([1]ΣΥΝΟΛΟ!L45) -> 7 | I9: =SUM([1]ΣΥΝΟΛΟ!L46) -> 4 | J9: =SUM([1]ΣΥΝΟΛΟ!L47) -> 4 | K9: =SUM([1]ΣΥΝΟΛΟ!L48) -> 0 | L9: =SUM([1]ΣΥΝΟΛΟ!L49) -> 0
A10: ΠΕΛΟΠΟΝΝΗΣΟΣ | B10: =SUM([1]Πελοπόννησος!B60) -> 890 | C10: =SUM([1]ΣΥΝΟΛΟ!L59) -> 66 | D10: =SUM([1]ΣΥΝΟΛΟ!B59,[1]ΣΥΝΟΛΟ!C59,[1]ΣΥΝΟΛΟ!D59,[1]ΣΥΝΟΛΟ!E59,[1]ΣΥΝΟΛΟ!F59,) -> 60 | E10: =SUM([1]ΣΥΝΟΛΟ!G59,[1]ΣΥΝΟΛΟ!H59,[1]ΣΥΝΟΛΟ!I59,[1]ΣΥΝΟΛΟ!J59,[1]ΣΥΝΟΛΟ!K59,) -> 6 | F10: =SUM([1]ΣΥΝΟΛΟ!L52) -> 2 | G10: =SUM([1]ΣΥΝΟΛΟ!L53) -> 36 | H10: =SUM([1]ΣΥΝΟΛΟ!L54) -> 12 | I10: =SUM([1]ΣΥΝΟΛΟ!L55) -> 5 | J10: =SUM([1]ΣΥΝΟΛΟ!L56) -> 6 | K10: =SUM([1]ΣΥΝΟΛΟ!L57) -> 3 | L10: =SUM([1]ΣΥΝΟΛΟ!L58) -> 2
A11: ΘΕΣΣΑΛΙΑ | B11: =SUM([1]Θεσσαλία!B50) -> 1044 | C11: =SUM([1]ΣΥΝΟΛΟ!L68) -> 14 | D11: =SUM([1]ΣΥΝΟΛΟ!B68,[1]ΣΥΝΟΛΟ!C68,[1]ΣΥΝΟΛΟ!D68,[1]ΣΥΝΟΛΟ!E68,[1]ΣΥΝΟΛΟ!F68,) -> 13 | E11: =SUM([1]ΣΥΝΟΛΟ!G68,[1]ΣΥΝΟΛΟ!H68,[1]ΣΥΝΟΛΟ!I68,[1]ΣΥΝΟΛΟ!J68,[1]ΣΥΝΟΛΟ!K68,) -> 1 | F11: =SUM([1]ΣΥΝΟΛΟ!L61) -> 1 | G11: =SUM([1]ΣΥΝΟΛΟ!L62) -> 1 | H11: =SUM([1]ΣΥΝΟΛΟ!L63) -> 3 | I11: =SUM([1]ΣΥΝΟΛΟ!L64) -> 5 | J11: =SUM([1]ΣΥΝΟΛΟ!L65) -> 2 | K11: =SUM([1]ΣΥΝΟΛΟ!L66) -> 2 | L11: =SUM([1]ΣΥΝΟΛΟ!L67) -> 0
A12: ΔΥΤΙΚΗ ΜΑΚΕΔΟΝΙΑ | B12: =SUM('[1]Δυτική Μακ.'!B51) -> 382 | C12: =SUM([1]ΣΥΝΟΛΟ!L94) -> 5 | D12: =SUM([1]ΣΥΝΟΛΟ!B94,[1]ΣΥΝΟΛΟ!C94,[1]ΣΥΝΟΛΟ!D94,[1]ΣΥΝΟΛΟ!E94,[1]ΣΥΝΟΛΟ!F94,) -> 5 | E12: =SUM([1]ΣΥΝΟΛΟ!G94,[1]ΣΥΝΟΛΟ!H94,[1]ΣΥΝΟΛΟ!I94,[1]ΣΥΝΟΛΟ!J94,[1]ΣΥΝΟΛΟ!K94,) -> 0 | F12: =SUM([1]ΣΥΝΟΛΟ!L87) -> 0 | G12: =SUM([1]ΣΥΝΟΛΟ!L88) -> 0 | H12: =SUM([1]ΣΥΝΟΛΟ!L89) -> 1 | I12: =SUM([1]ΣΥΝΟΛΟ!L90) -> 1 | J12: =SUM([1]ΣΥΝΟΛΟ!L91) -> 2 | K12: =SUM([1]ΣΥΝΟΛΟ!L92) -> 0 | L12: =SUM([1]ΣΥΝΟΛΟ!L93) -> 1
A13: ΗΠΕΙΡΟΣ | B13: =SUM([1]Ηπειρος!B50) -> 506 | C13: =SUM([1]ΣΥΝΟΛΟ!L103) -> 13 | D13: =SUM([1]ΣΥΝΟΛΟ!B103,[1]ΣΥΝΟΛΟ!C103,[1]ΣΥΝΟΛΟ!D103,[1]ΣΥΝΟΛΟ!E103,[1]ΣΥΝΟΛΟ!F103,) -> 13 | E13: =SUM([1]ΣΥΝΟΛΟ!G103,[1]ΣΥΝΟΛΟ!H103,[1]ΣΥΝΟΛΟ!I103,[1]ΣΥΝΟΛΟ!J103,[1]ΣΥΝΟΛΟ!K103,) -> 0 | F13: =SUM([1]ΣΥΝΟΛΟ!L96) -> 0 | G13: =SUM([1]ΣΥΝΟΛΟ!L97) -> 3 | H13: =SUM([1]ΣΥΝΟΛΟ!L98) -> 8 | I13: =SUM([1]ΣΥΝΟΛΟ!L99) -> 2 | J13: =SUM([1]ΣΥΝΟΛΟ!L100) -> 0 | K13: =SUM([1]ΣΥΝΟΛΟ!L101) -> 0 | L13: =SUM([1]ΣΥΝΟΛΟ!L102) -> 0
A14: ΣΤΕΡΕΑ ΕΛΛΑΔΑ | B14: =SUM([1]Στερεά!B58) -> 1144 | C14: =SUM([1]ΣΥΝΟΛΟ!L112) -> 16 | D14: =SUM([1]ΣΥΝΟΛΟ!B112,[1]ΣΥΝΟΛΟ!C112,[1]ΣΥΝΟΛΟ!D112,[1]ΣΥΝΟΛΟ!E112,[1]ΣΥΝΟΛΟ!F112,) -> 15 | E14: =SUM([1]ΣΥΝΟΛΟ!G112,[1]ΣΥΝΟΛΟ!H112,[1]ΣΥΝΟΛΟ!I112,[1]ΣΥΝΟΛΟ!J112,[1]ΣΥΝΟΛΟ!K112,) -> 1 | F14: =SUM([1]ΣΥΝΟΛΟ!L105) -> 0 | G14: =SUM([1]ΣΥΝΟΛΟ!L106) -> 8 | H14: =SUM([1]ΣΥΝΟΛΟ!L107) -> 0 | I14: =SUM([1]ΣΥΝΟΛΟ!L108) -> 4 | J14: =SUM([1]ΣΥΝΟΛΟ!L109) -> 3 | K14: =SUM([1]ΣΥΝΟΛΟ!L110) -> 1 | L14: =SUM([1]ΣΥΝΟΛΟ!L111) -> 0
A15: ΚΕΝΤΡΙΚΗ ΜΑΚΕΔΟΝΙΑ | B15: =SUM('[1]Κεντ. Μακ'!B69) -> 1975 | C15: =SUM([1]ΣΥΝΟΛΟ!L121) -> 70 | D15: =SUM([1]ΣΥΝΟΛΟ!B121,[1]ΣΥΝΟΛΟ!C121,[1]ΣΥΝΟΛΟ!D121,[1]ΣΥΝΟΛΟ!E121,[1]ΣΥΝΟΛΟ!F121,) -> 66 | E15: =SUM([1]ΣΥΝΟΛΟ!G121,[1]ΣΥΝΟΛΟ!H121,[1]ΣΥΝΟΛΟ!I121,[1]ΣΥΝΟΛΟ!J121,[1]ΣΥΝΟΛΟ!K121,) -> 4 | F15: =SUM([1]ΣΥΝΟΛΟ!L114) -> 1 | G15: =SUM([1]ΣΥΝΟΛΟ!L115) -> 26 | H15: =SUM([1]ΣΥΝΟΛΟ!L116) -> 22 | I15: =SUM([1]ΣΥΝΟΛΟ!L117) -> 15 | J15: =SUM([1]ΣΥΝΟΛΟ!L118) -> 5 | K15: =SUM([1]ΣΥΝΟΛΟ!L119) -> 0 | L15: =SUM([1]ΣΥΝΟΛΟ!L120) -> 1
A16: ΚΡΗΤΗ | B16: =SUM([1]Κρήτη!B60) -> 984 | C16: =SUM([1]ΣΥΝΟΛΟ!L136) -> 67 | D16: =SUM([1]ΣΥΝΟΛΟ!B136,[1]ΣΥΝΟΛΟ!C136,[1]ΣΥΝΟΛΟ!D136,[1]ΣΥΝΟΛΟ!E136,[1]ΣΥΝΟΛΟ!F136,) -> 63 | E16: =SUM([1]ΣΥΝΟΛΟ!G136,[1]ΣΥΝΟΛΟ!H136,[1]ΣΥΝΟΛΟ!I136,[1]ΣΥΝΟΛΟ!J136,[1]ΣΥΝΟΛΟ!K136,) -> 4 | F16: =SUM([1]ΣΥΝΟΛΟ!L129) -> 1 | G16: =SUM([1]ΣΥΝΟΛΟ!L130) -> 19 | H16: =SUM([1]ΣΥΝΟΛΟ!L131) -> 27 | I16: =SUM([1]ΣΥΝΟΛΟ!L132) -> 16 | J16: =SUM([1]ΣΥΝΟΛΟ!L133) -> 4 | K16: =SUM([1]ΣΥΝΟΛΟ!L134) -> 0 | L16: =SUM([1]ΣΥΝΟΛΟ!L135) -> 0
A17: ΒΟΡΕΙΟ ΑΙΓΑΙΟ | B17: =SUM([1]Βόρειο!B40) -> 318 | C17: =SUM([1]ΣΥΝΟΛΟ!L145) -> 8 | D17: =SUM([1]ΣΥΝΟΛΟ!B145,[1]ΣΥΝΟΛΟ!C145,[1]ΣΥΝΟΛΟ!D145,[1]ΣΥΝΟΛΟ!E145,[1]ΣΥΝΟΛΟ!F145,) -> 6 | E17: =SUM([1]ΣΥΝΟΛΟ!G145,[1]ΣΥΝΟΛΟ!H145,[1]ΣΥΝΟΛΟ!I145,[1]ΣΥΝΟΛΟ!J145,[1]ΣΥΝΟΛΟ!K145,) -> 2 | F17: =SUM([1]ΣΥΝΟΛΟ!L138) -> 0 | G17: =SUM([1]ΣΥΝΟΛΟ!L139) -> 2 | H17: =SUM([1]ΣΥΝΟΛΟ!L140) -> 4 | I17: =SUM([1]ΣΥΝΟΛΟ!L141) -> 2 | J17: =SUM([1]ΣΥΝΟΛΟ!L142) -> 0 | K17: =SUM([1]ΣΥΝΟΛΟ!L143) -> 0 | L17: =SUM([1]ΣΥΝΟΛΟ!L144) -> 0
A18: ΝΟΤΙΟ ΑΙΓΑΙΟ | B18: =SUM([1]Νότιο!B42) -> 486 | C18: =SUM([1]ΣΥΝΟΛΟ!L154) -> 32 | D18: =SUM([1]ΣΥΝΟΛΟ!B154,[1]ΣΥΝΟΛΟ!C154,[1]ΣΥΝΟΛΟ!D154,[1]ΣΥΝΟΛΟ!E154,[1]ΣΥΝΟΛΟ!F154,) -> 27 | E18: =SUM([1]ΣΥΝΟΛΟ!G154,[1]ΣΥΝΟΛΟ!H154,[1]ΣΥΝΟΛΟ!I154,[1]ΣΥΝΟΛΟ!J154,[1]ΣΥΝΟΛΟ!K154,) -> 5 | F18: =SUM([1]ΣΥΝΟΛΟ!L147) -> 0 | G18: =SUM([1]ΣΥΝΟΛΟ!L148) -> 16 | H18: =SUM([1]ΣΥΝΟΛΟ!L149) -> 6 | I18: =SUM([1]ΣΥΝΟΛΟ!L150) -> 6 | J18: =SUM([1]ΣΥΝΟΛΟ!L151) -> 4 | K18: =SUM([1]ΣΥΝΟΛΟ!L152) -> 0 | L18: =SUM([1]ΣΥΝΟΛΟ!L153) -> 0
A19: ΔΥΤΙΚΗ ΕΛΛΑΔΑ | B19: =SUM('[1]Δυτική Ελλάδα'!B50) -> 1025 | C19: =SUM([1]ΣΥΝΟΛΟ!L163) -> 28 | D19: =SUM([1]ΣΥΝΟΛΟ!B163,[1]ΣΥΝΟΛΟ!C163,[1]ΣΥΝΟΛΟ!D163,[1]ΣΥΝΟΛΟ!E163,[1]ΣΥΝΟΛΟ!F163,) -> 23 | E19: =SUM([1]ΣΥΝΟΛΟ!G163,[1]ΣΥΝΟΛΟ!H163,[1]ΣΥΝΟΛΟ!I163,[1]ΣΥΝΟΛΟ!J163,[1]ΣΥΝΟΛΟ!K163,) -> 5 | F19: =SUM([1]ΣΥΝΟΛΟ!L156) -> 0 | G19: =SUM([1]ΣΥΝΟΛΟ!L157) -> 10 | H19: =SUM([1]ΣΥΝΟΛΟ!L158) -> 9 | I19: =SUM([1]ΣΥΝΟΛΟ!L159) -> 3 | J19: =SUM([1]ΣΥΝΟΛΟ!L160) -> 4 | K19: =SUM([1]ΣΥΝΟΛΟ!L161) -> 1 | L19: =SUM([1]ΣΥΝΟΛΟ!L162) -> 1
A20: ΣΥΝΟΛΟ | B20: =SUM(B6:B19) -> 12774 | C20: =SUM(C6:C19) -> 482 | D20: =SUM(D6:D19) -> 436 | E20: =SUM(E6:E19) -> 46 | F20: =SUM(F6:F19) -> 10 | G20: =SUM(G6:G19) -> 161 | H20: =SUM(H6:H19) -> 142 | I20: =SUM(I6:I19) -> 90 | ... L20: =SUM(L6:L19) -> 6
A21: ΠΟΣΟΣΤΑ | C21: =C20/B$20 -> 0.037732895 | D21: =D20/$C$20 -> 0.90456432 | E21: =E20/$C$20 -> 0.095435685 | F21: =F20/$C$20 -> 0.020746888 | G21: =G20/$C$20 -> 0.3340249 | H21: =H20/$C$20 -> 0.29460581 | I21: =I20/$C$20 -> 0.18672199 | J21: =J20/$C$20 -> 0.12863071 | K21: =K20/$C$20 -> 0.022821577 | L21: =L20/$C$20 -> 0.012448133
B22: ΣΥΝΟΛΙΚΟΣ ΑΡΙΘΜΟΣ ΕΛΕΧΘΕΝΤΩΝ ΟΧΗΜΑΤΩΝ | C22: Παραβάσεις Μέθης | D22: Άνδρες | E22: Γυναίκες | F22: <20 ετών | G22: 20-30 ετών | H22: 30-40 ετών | I22: 40-50 ετών | J22: 50-60 ετών | K22: 60-70 ετών | L22: >70 ετών
